BEGIN:VCALENDAR
VERSION:2.0
PRODID:-//Mudford Parish Council//Meeting Calendar//EN
CALSCALE:GREGORIAN
METHOD:PUBLISH
BEGIN:VEVENT
UID:70543-20220519@mudford-pc.gov.uk
DTSTAMP:20260419T155846Z
DTSTART;VALUE=DATE:20220519
DTEND;VALUE=DATE:20220520
SUMMARY:Annual Parish Meeting &#8211\\; 19 May 2022
DESCRIPTION:Annual Parish Meeting\nView details: https://mudford-pc.gov.uk/meetings/annual-parish-meeting-19-may-2022/
URL:https://mudford-pc.gov.uk/meetings/annual-parish-meeting-19-may-2022/
END:VEVENT
END:VCALENDAR
