BEGIN:VCALENDAR
VERSION:2.0
PRODID:-//Mudford Parish Council//Meeting Calendar//EN
CALSCALE:GREGORIAN
METHOD:PUBLISH
BEGIN:VEVENT
UID:71488-20260401@mudford-pc.gov.uk
DTSTAMP:20260419T132959Z
DTSTART;VALUE=DATE:20260401
DTEND;VALUE=DATE:20260402
SUMMARY:Extraordinary Meeting &#8211\\; 1 April 2026
DESCRIPTION:Extraordinary Meeting\nView details: https://mudford-pc.gov.uk/meetings/extraordinary-meeting-1-april-2026/
URL:https://mudford-pc.gov.uk/meetings/extraordinary-meeting-1-april-2026/
END:VEVENT
END:VCALENDAR
